BEGIN:VCALENDAR
VERSION:2.0
PRODID:-//Wiggle Room Toronto - ECPv6.15.20//NONSGML v1.0//EN
CALSCALE:GREGORIAN
METHOD:PUBLISH
X-WR-CALNAME:Wiggle Room Toronto
X-ORIGINAL-URL:https://wiggleroomtoronto.com
X-WR-CALDESC:Events for Wiggle Room Toronto
REFRESH-INTERVAL;VALUE=DURATION:PT1H
X-Robots-Tag:noindex
X-PUBLISHED-TTL:PT1H
BEGIN:VTIMEZONE
TZID:America/Toronto
BEGIN:DAYLIGHT
TZOFFSETFROM:-0500
TZOFFSETTO:-0400
TZNAME:EDT
DTSTART:20210314T070000
END:DAYLIGHT
BEGIN:STANDARD
TZOFFSETFROM:-0400
TZOFFSETTO:-0500
TZNAME:EST
DTSTART:20211107T060000
END:STANDARD
BEGIN:DAYLIGHT
TZOFFSETFROM:-0500
TZOFFSETTO:-0400
TZNAME:EDT
DTSTART:20220313T070000
END:DAYLIGHT
BEGIN:STANDARD
TZOFFSETFROM:-0400
TZOFFSETTO:-0500
TZNAME:EST
DTSTART:20221106T060000
END:STANDARD
BEGIN:DAYLIGHT
TZOFFSETFROM:-0500
TZOFFSETTO:-0400
TZNAME:EDT
DTSTART:20230312T070000
END:DAYLIGHT
BEGIN:STANDARD
TZOFFSETFROM:-0400
TZOFFSETTO:-0500
TZNAME:EST
DTSTART:20231105T060000
END:STANDARD
END:VTIMEZONE
BEGIN:VEVENT
DTSTART;TZID=America/Toronto:20221001T190000
DTEND;TZID=America/Toronto:20221002T070000
DTSTAMP:20260421T052117
CREATED:20220909T004335Z
LAST-MODIFIED:20250217T163851Z
UID:5330-1664650800-1664694000@wiggleroomtoronto.com
SUMMARY:Wiggly Street: Cultural Infusions (nuit blanche multidisciplinary arts night)
DESCRIPTION:WiGGLY STREET – Nuit Blanche 2022\n~~~~ CULTURAL INFUSIONS ~~~~\n~~~~~~~~ 7pm-7am ~~~~~~~~ \nJoin us for the infamous Wiggly Events’ annual multidisciplinary arts installation for Nuit Blanche featuring performances and works produced by 30+ local Toronto-based artists and from our group of Wiggly Artists Collective (WAC). \nThis installation will include many visually tantalizing components\, an hourly repeating social experiment\, projections\, and 12 hours of audio performances. This year’s theme is “CULTURAL INFUSIONS”.  \nSuggested costumes: anything silly and fun \nAudio Performers include:\n7-8pm – TBA\n8-9pm – Elport (Kings & Queens)\n9-10pm – Pari (Wiggly)\n10-11pm – Munnday (Bring the Kingdom)\n11-12am – Kevin Aleksander (Bring the Kingdom)\n12-1am – King Topher (Bring the Kingdom)\n1-2am – Steve Coen (live techno; Wiggly)\n2-3am – TAKiN (Captain Wiggle)\n3-4am – Tyler Hill (Wiggly Resident)\n4-5am – Barroness (Wiggly Resident)\n5-6am – TBA\n6-7am – Don Yaĝé “the Zargar” (Wiggly) \nProjections by:\nVJ SEKs (Wiggly Resident)\nVJ Swimming (Wiggly Resident)\n+ more \nArt and Deco Installations by:\nALeKs BaRtosiK ART\nSamantha Marie\nSabrina Mew\nAlina Urusov\nArturo Durothethird.murals\nLindsay Fay\nSabrina Khalil\nRoost Radio Crew\nAnton Khvedantsevich\nBarroness\n+ more \nWiggly’s is an inclusive community and if you have a great installation idea that fits our theme we love to make it happen\, contact Takin to coordinate via djtakin@gmail.com \nPhotography by: Tim Sandikmore to come… \nTickets/Donations:\nSince our proposal was not accepted as an official Nuit Blanche installation this year\, we have again moved indoors where we can avoid getting shut down and can guarantee a full night of performances. This is a very large scale and costly production\, and so with this in mind\, instead of a gofundme campaign this year\, we have decided to charge an entrance fee and have a bar serving alcoholic drinks to help offset the costs of putting this event on. \nThat said\, and in Nuit Blanche spirit we do offer FREE Entry before 10pm and after 6am. \nAdvance – admits one anytime of the night. Early Wiggler: $20\, The Wiggler: $25 \nBuy Tickets \nAt Door:\n7-10pm – FREE\n10-11:30pm – $25\n11:30-12:30am – $30\n12:30-4am – $35\n4-6am – $20\n6-7am – FREE \nThis is a highly attended event and we anticipate to be at capacity\, we highly recommend purchasing tickets in advance to avoid disappointments.Please let your Wiggliest friends know. \nATM on site | Full Bar Service | 19+ event \nhosted by: FUS:ED; Wiggly Events; Phantom; Bring the Kingdom; Kings & Queens; Wiggle Room Toronto\, and so many artists and supporters.~ WiGGLE RESPONSIBLY ~\n      .\n~ Wiggle Wiggle ~ \nRSVP with friends on Facebook
URL:https://wiggleroomtoronto.com/event/wiggly-street-cultural-infusions-nuit-blanche-multidisciplinary-arts-night/
LOCATION:Wiggle Room\, 772 Dundas St W\, Toronto
CATEGORIES:Wiggly Events
ATTACH;FMTTYPE=image/jpeg:https://wiggleroomtoronto.com/wp-content/uploads/2022/09/2022-wiggly-street-cultural-infusions-nuit-blanche-multidisciplinary-arts-night.jpg
END:VEVENT
BEGIN:VEVENT
DTSTART;TZID=America/Toronto:20221007T220000
DTEND;TZID=America/Toronto:20221008T050000
DTSTAMP:20260421T052117
CREATED:20221007T055641Z
LAST-MODIFIED:20251110T175410Z
UID:5635-1665180000-1665205200@wiggleroomtoronto.com
SUMMARY:Wiggly Warehouse at 131 McCormack St w TODD TERRY
DESCRIPTION:FU:SED Entertainment & Wiggly Events proudly present Music Belt’s: TODD TERRY\n@ a Jumbo Warehouse (131 McCormack St.) \n+ FUNDRAISING – for the Breast Cancer Support Fund #breastcancersupportfund \n~~ 2 Rooms ~~ \nMain Room:\n10 – 12 – DJ YOGI\n12 – 1 – Tyler Hill & Barroness\n1 – 3 – TODD TERRY\n3 – 4 – Miz Megs\n+ VJ SEKs \nWiggle Room:\n10-12 – Jules Worth\n12 – 1:30 – ROB DABOOM\n1:30 – 3 – RandomDoug\n3 – 4 – TAKiN\n+ VJ Swimming \nTODD TERRY – began his career in the 1980s\, DJing at parties in NYC. At first\, he played Italo disco and hip-hop. Later\, he concentrated on House music upon its mid-’80s emergence. Much of Terry’s early work in the late 1980s is considered a milestone in the development of house and rave music. With a professional career that has expanded over 4 decades\, and multiple chart topping hits\, Todd Terry puts on a show that will transcend the audience throughout time and senses. \nAdvance Tickets\nSuper Early Wiggler: $30 SOLD OUT\nEarly Wiggler: $35 SOLD OUT\nThe Wiggler: $40VIP (Backstage Access): $75 (includes one complimentary drink)\nthe VIP/Backstage area will also have an exclusive barVIP Packages – Table Reservations @ Backstage\n(Party with all the DJs and organizers)\n \nTable/Bottle Packages \nATM on site | Full Bar Service | 19+ event \nHosted by: FU:SED Entertainment; Wiggly Events; 1lvl1 Entertainment; Desire events; Phantom; Exposed; BoomBoxx; Boogie Inc.; R&R; DOCD; Wiggle Room Toronto\, InHouse Records; and UnitedSoul \n \n~ WiGGLE RESPONSIBLY ~\nAll Wiggly Events are Safer Dance Spaces.
URL:https://wiggleroomtoronto.com/event/wiggly-warehouse-at-131-mccormack-st-w-todd-terry/
CATEGORIES:Wiggly Events,Wiggly Warehouse
ATTACH;FMTTYPE=image/jpeg:https://wiggleroomtoronto.com/wp-content/uploads/2022/10/wiggly-warehouse-todd-terry.jpg
END:VEVENT
END:VCALENDAR