BEGIN:VCALENDAR
VERSION:2.0
PRODID:-//Wiggle Room Toronto - ECPv6.15.20//NONSGML v1.0//EN
CALSCALE:GREGORIAN
METHOD:PUBLISH
X-ORIGINAL-URL:https://wiggleroomtoronto.com
X-WR-CALDESC:Events for Wiggle Room Toronto
REFRESH-INTERVAL;VALUE=DURATION:PT1H
X-Robots-Tag:noindex
X-PUBLISHED-TTL:PT1H
BEGIN:VTIMEZONE
TZID:America/Toronto
BEGIN:DAYLIGHT
TZOFFSETFROM:-0500
TZOFFSETTO:-0400
TZNAME:EDT
DTSTART:20220313T070000
END:DAYLIGHT
BEGIN:STANDARD
TZOFFSETFROM:-0400
TZOFFSETTO:-0500
TZNAME:EST
DTSTART:20221106T060000
END:STANDARD
BEGIN:DAYLIGHT
TZOFFSETFROM:-0500
TZOFFSETTO:-0400
TZNAME:EDT
DTSTART:20230312T070000
END:DAYLIGHT
BEGIN:STANDARD
TZOFFSETFROM:-0400
TZOFFSETTO:-0500
TZNAME:EST
DTSTART:20231105T060000
END:STANDARD
BEGIN:DAYLIGHT
TZOFFSETFROM:-0500
TZOFFSETTO:-0400
TZNAME:EDT
DTSTART:20240310T070000
END:DAYLIGHT
BEGIN:STANDARD
TZOFFSETFROM:-0400
TZOFFSETTO:-0500
TZNAME:EST
DTSTART:20241103T060000
END:STANDARD
END:VTIMEZONE
BEGIN:VEVENT
DTSTART;TZID=America/Toronto:20230520T220000
DTEND;TZID=America/Toronto:20230521T050000
DTSTAMP:20260420T173129
CREATED:20230504T163918Z
LAST-MODIFIED:20231129T050729Z
UID:9455-1684620000-1684645200@wiggleroomtoronto.com
SUMMARY:Bouncy Beats w/ Miz Megs / Barroness / Boco ...
DESCRIPTION:Saturdays inside #WiggleRoomToronto are the #HomeofBouncyBeats\nMay 20 / Miz Megs / Barroness / Boco / Tyler Hill / 3ROC / Mannix & FerrowFor this session of Home of Bouncy Beats we feature a few of our favourite local house and tech house djs.  We welcome back to Wiggle Room  Boco / 3ROC / and Mannix & Ferrow to play along with a few of our residents: Barroness / Tyler Hill / and Miz Megs. \nBuy Tickets FacebookAdvance Tickets:\nEarly Bird: $20\nAdvance:  $25 \nPerformers10-11:30 – Mannix & Ferrow\n11:30 – 12:30 – 3ROC\n12:30 – 2 – Miz Megs\n2 – 3 – Tyler Hill\n3 – 4 – Boco\n4 – close – Barroness\n+ VJ SEKS  \nTable/Bottle Packages \nTo Arrange Special Packages – wigglyevents@gmail.com (sold separate of admission)ATM on site | Full Bar Service | 21+ eventHosted by: Wiggly Events; FU:SED; Phantom; and Wiggle Room Toronto~ WiGGLE RESPONSIBLY ~
URL:https://wiggleroomtoronto.com/event/bouncy-beats-w-miz-megs-barroness-boco/
LOCATION:Wiggle Room\, 772 Dundas St W\, Toronto
ATTACH;FMTTYPE=image/jpeg:https://wiggleroomtoronto.com/wp-content/uploads/2023/05/05-may20-tylerhillmizmegz-event.jpg
END:VEVENT
END:VCALENDAR