BEGIN:VCALENDAR
VERSION:2.0
PRODID:-//Wiggle Room Toronto - ECPv6.15.20//NONSGML v1.0//EN
CALSCALE:GREGORIAN
METHOD:PUBLISH
X-ORIGINAL-URL:https://wiggleroomtoronto.com
X-WR-CALDESC:Events for Wiggle Room Toronto
REFRESH-INTERVAL;VALUE=DURATION:PT1H
X-Robots-Tag:noindex
X-PUBLISHED-TTL:PT1H
BEGIN:VTIMEZONE
TZID:America/Toronto
BEGIN:DAYLIGHT
TZOFFSETFROM:-0500
TZOFFSETTO:-0400
TZNAME:EDT
DTSTART:20220313T070000
END:DAYLIGHT
BEGIN:STANDARD
TZOFFSETFROM:-0400
TZOFFSETTO:-0500
TZNAME:EST
DTSTART:20221106T060000
END:STANDARD
BEGIN:DAYLIGHT
TZOFFSETFROM:-0500
TZOFFSETTO:-0400
TZNAME:EDT
DTSTART:20230312T070000
END:DAYLIGHT
BEGIN:STANDARD
TZOFFSETFROM:-0400
TZOFFSETTO:-0500
TZNAME:EST
DTSTART:20231105T060000
END:STANDARD
BEGIN:DAYLIGHT
TZOFFSETFROM:-0500
TZOFFSETTO:-0400
TZNAME:EDT
DTSTART:20240310T070000
END:DAYLIGHT
BEGIN:STANDARD
TZOFFSETFROM:-0400
TZOFFSETTO:-0500
TZNAME:EST
DTSTART:20241103T060000
END:STANDARD
END:VTIMEZONE
BEGIN:VEVENT
DTSTART;TZID=America/Toronto:20230707T220000
DTEND;TZID=America/Toronto:20230708T040000
DTSTAMP:20260420T141259
CREATED:20230616T011645Z
LAST-MODIFIED:20251110T173145Z
UID:10519-1688767200-1688788800@wiggleroomtoronto.com
SUMMARY:Deep in the Woods: Camp Wiggly Reunion Party
DESCRIPTION:Friday\, July 7 /  Deep in the Woods:  CAMP WiGGLY Reunion Party\nTAKiN / Diskomaster / Tyler Hill / Barroness / Cameron Scott / Amir Nian \nBuy Tickets RSVP on FacebookBack from the forest\, and full of joy and energy.  We can’t wait to reunite with everyone for a special decomp event with a few of our favourites.  Camp Wiggly Ticket Holders will be Emailed a special Discount code for this event.\n+ Celebrating Cameron Scott’s bday beatsSchedule of  \nPerformers\n10-11 – Cameron Scott (bday beats)\n11 – 12 – Tyler Hill\n12- 1 – TAKiN\n1-2 – Barroness\n2-3 – Diskomaster\n3-close – Amir Nian\n+VJ SEKS\n+ Happy Pride Month @ Wiggle RoomAdvance Tickets:\nEarly Bird: $20\nAdvance:  $25Prepaid table/ticket packages ~ WiGGLE RESPONSIBLY ~To Arrange Special Packages – wigglyevents@gmail.com (sold separately from admission)ATM on site | Full Bar Service | 21+ eventHosted by: Fused Entertainment / Phantom / Wiggly Events / and Wiggle Room Toronto~ WiGGLE RESPONSIBLY ~
URL:https://wiggleroomtoronto.com/event/deep-in-the-woods-camp-wiggly-reunion-party/
LOCATION:Wiggle Room\, 772 Dundas St W\, Toronto
CATEGORIES:Camp Wiggly,Wiggly Events
ATTACH;FMTTYPE=image/jpeg:https://wiggleroomtoronto.com/wp-content/uploads/2023/06/07-jul07-deepinthewoods-event.jpg
END:VEVENT
BEGIN:VEVENT
DTSTART;TZID=America/Toronto:20230728T233000
DTEND;TZID=America/Toronto:20230729T040000
DTSTAMP:20260420T141259
CREATED:20230412T181417Z
LAST-MODIFIED:20251110T175521Z
UID:9021-1690587000-1690603200@wiggleroomtoronto.com
SUMMARY:Captain Wiggle's 10th Annual Moonlight Cruise
DESCRIPTION:Captain Wiggle cordially invites you to our highly anticipated 10th annual Midnight Sail on board the pirate ship KAJAMA. \nBuy Tickets Facebook \nTickets:\nSuper Early Wiggler: $35\nEarly Wiggler: $40\nThe Wiggler: $45 \nThis annual event is known for the late-night bouncy beats and wiggly\, lovely people\, and has sold out for the past 9 years; it will sell out again. We suggest purchasing your tickets well in advance\, as space is also very limited. This year\, we welcome back one of our favourite DJs\, treating us with the headlining set: PHIL FAIRHEAD from Ottawa. He’s the founder of BPM Ottawa\, a former resident DJ at the now RIP Circus after-hours Montreal\, and has performed at Playground\, Camp Wiggly\, and Wiggle Room\, rocking it every time. \n \nAlong with wiggly residents: TYLER HILL & Barroness \n+ Bday beats by TAKiN – Captain Wiggle himself\n++ VJ SEKS projecting on the sails (so cool) \n11:20 pm Boarding time\n11:55 pm SHARP\, we leave the dock\n4 am return to the dock\n+ bonus Afterparty at Wiggle Room ($15 with Kajama wristbands at Wiggle Room – DJs TBA) \nCelebrating the bday wigglies of Takin\, Vivi J Fa\, Rouzbeh\, Michael Mitchell\, Andrew David\, Erin McEwen-Ryeland\, and a few more awesome Leo’s. \nPirate Ship KAJAMA: Built-in 1930\, she first set sail out of Germany as a cargo ship and was originally named Wilfried. She was soon renamed after KAywe\, JAn and MAria\, the two sons and wive of it’s Captain in 1960. Having travelled the world back and forth\, in 1999 she arrived at her more recent home: Toronto Harbour. \n~ WiGGLE RESPONSIBLY ~\nWiggly Events are Safer Dance Spaces. Ask any of our staff for a Banana and we will direct you to a safe quite a space. ~ Wiggle Wiggle ~
URL:https://wiggleroomtoronto.com/event/captain-wiggles-10th-annual-moonlight-cruise/
LOCATION:Kajama\, 235 Queens Quay W\, Toronto
CATEGORIES:Moonlight Cruise,Wiggly Events
ATTACH;FMTTYPE=image/jpeg:https://wiggleroomtoronto.com/wp-content/uploads/2023/04/07-jul28-kajama-event-1-e1681529422951.jpg
END:VEVENT
END:VCALENDAR