BEGIN:VCALENDAR
VERSION:2.0
PRODID:-//Wiggle Room Toronto - ECPv6.15.20//NONSGML v1.0//EN
CALSCALE:GREGORIAN
METHOD:PUBLISH
X-ORIGINAL-URL:https://wiggleroomtoronto.com
X-WR-CALDESC:Events for Wiggle Room Toronto
REFRESH-INTERVAL;VALUE=DURATION:PT1H
X-Robots-Tag:noindex
X-PUBLISHED-TTL:PT1H
BEGIN:VTIMEZONE
TZID:America/Toronto
BEGIN:DAYLIGHT
TZOFFSETFROM:-0500
TZOFFSETTO:-0400
TZNAME:EDT
DTSTART:20220313T070000
END:DAYLIGHT
BEGIN:STANDARD
TZOFFSETFROM:-0400
TZOFFSETTO:-0500
TZNAME:EST
DTSTART:20221106T060000
END:STANDARD
BEGIN:DAYLIGHT
TZOFFSETFROM:-0500
TZOFFSETTO:-0400
TZNAME:EDT
DTSTART:20230312T070000
END:DAYLIGHT
BEGIN:STANDARD
TZOFFSETFROM:-0400
TZOFFSETTO:-0500
TZNAME:EST
DTSTART:20231105T060000
END:STANDARD
BEGIN:DAYLIGHT
TZOFFSETFROM:-0500
TZOFFSETTO:-0400
TZNAME:EDT
DTSTART:20240310T070000
END:DAYLIGHT
BEGIN:STANDARD
TZOFFSETFROM:-0400
TZOFFSETTO:-0500
TZNAME:EST
DTSTART:20241103T060000
END:STANDARD
END:VTIMEZONE
BEGIN:VEVENT
DTSTART;TZID=America/Toronto:20231202T220000
DTEND;TZID=America/Toronto:20231203T050000
DTSTAMP:20260420T063510
CREATED:20231023T172238Z
LAST-MODIFIED:20240304T155111Z
UID:11798-1701554400-1701579600@wiggleroomtoronto.com
SUMMARY:4AM LAST CALL | Rise: MAXINNE / Jenny Boo / Barroness ...
DESCRIPTION:Saturdays inside #WiggleRoomToronto are the #HomeofBouncyBeats\nSat Dec 2 – MAXINNE [Toolroom | He.She.They]\n+4AM LAST CALL \nBuy Tickets Facebook RA \nVenus Rising is an event series to empower and support non-male identifying performers in an industry that is traditionally male dominated. Wiggly Events is proud to be at the forefront of change for inclusivity and equality.  Returning to the home of bouncy beats for the 3rd time\, MAXINNE has quickly earned the reputation of a house favourite.  The UK native is known for super bouncy and dirty beats. She has releases with some of the biggest house and tech house labels in the world including Toolroom\, Farris Wheel\, Dirtybird\, and many more.  \nAdvance Tickets\nSuper Early Wiggler: $20\nEarly Wiggler: $25\nAdvance: $30 \nPerformers\n10-11:30 – Shera\n11:30-1 – Barroness\n1-3 – MAXINNE\n3-4 – Jenny Boo\n4-close – Melanie Sutherland\n+ VJ SEKS \nhttps://soundcloud.com/djmaxinne/sets/tracks  \nTable/Bottle Packages \nTo Arrange Special Packages – wigglyevents@gmail.com (sold separate of admission)ATM on site | Full Bar Service | 21+ eventHosted by:  1lvl1 Events; Phantom Toronto; Fused Entertainment; Wiggly Events; Yours Truly; and Wiggle Room Toronto~ WiGGLE RESPONSIBLY ~~ Wiggle Wiggle ~
URL:https://wiggleroomtoronto.com/event/venus-rising-maxinne-jenny-boo-barroness/
LOCATION:Wiggle Room\, 772 Dundas St W\, Toronto
ATTACH;FMTTYPE=image/jpeg:https://wiggleroomtoronto.com/wp-content/uploads/2023/10/12-dec02-venusrising-maxinne-event4am.jpg
END:VEVENT
BEGIN:VEVENT
DTSTART;TZID=America/Toronto:20231222T220000
DTEND;TZID=America/Toronto:20231223T040000
DTSTAMP:20260420T063510
CREATED:20231027T170723Z
LAST-MODIFIED:20250610T031525Z
UID:11890-1703282400-1703304000@wiggleroomtoronto.com
SUMMARY:Wiggly Warehouse: Bad Boy Bill + DnB Room
DESCRIPTION:Wiggly Warehouse: BAD BOY BILL [Moody Recordings]\nMassive Warehouse at 131 McCormack St. \nEvent Photos\n\n \nBuy Tickets Facebook RA \nTWO MASSIVE ROOMS: HOUSE & DnB (just like the old rave days) \nSome of the funds we raise directly support breast cancer patients through the Breast Cancer Support Fund. \nMain Room\n10 – 11 – Strange City & Tele\n11-11:45 – 1lvl1 Crew DJs\n11:45-1 –  TAKiN & RandomDoug\n1-3 –  BAD BOY BILL\n3-close  +ONE (Barroness & Tyler Hill)\n+ VJ SEKS & SWIMMING \nDnB Room\n10-12 – Remedy\n12-1:30 – Elixah\n1:30-3 – Lush\n3-4  – Reva T\n+ Caddy Cad & MC Enlight \n \n  \nBad Boy Bill – is one of the most iconic names in the house music scene. With over three decades of a career known for his masterful turntablism skills\, Bad Boy Bill is well recognized as one of the top scratch masters in the house music scene. He takes the audience on a musical journey\, mixing in the old school vibes\, and his skills behind the decks keep our eyes wide open with amazement – he is an all-around entertainer. The last time he was in Toronto\, he played at a Sold Out show for us at Wiggle Room. It was such a great night that it was still raved about for months after.   Wiggle Room wasn’t big enough for this master of house music\, so we had to bring him back for an awesome WIGGLY WAREHOUSE party. \nWiggly Warehouse – this event series started in 2014 and has moved around town to many unique spaces: the abandoned Automotive Building (current home of MOCA)\, the Wiggly Warehouse on Queens Quay\, the abandoned Gerrard Theatre\, and most recently the “Plumbing Store” where we hosted a Sold Out ROGER SANCHEZ show in Spring 2023.For this Wiggly Warehouse\, we are taking you back to one of our favourite warehouse locations in town\, and we are excited to be bringing back the old-school warehouse rave vibes by adding a DNB ROOM as the 2nd room 🙂 After so many requests for a proper warehouse rave\, adding a DnB room was a natural decision. We ask all of you old schoolers to help support this event by letting your friends know the good word so that we can continue to produce these two-room events. \nAdvance Tickets\nSuper Early Wiggler: $30 SOLD OUT\nEarly Wiggler: $35 SOLD OUT\nThe Wiggler: $40 SOLD OUT\nAdvance: $45 \nVIP Backstage Pass: $75 (includes: General Admission + Backstage & VIP Bar Access + One Complimentary Drink)\n(hangout with local industry vip’s)\nVIP Packages – Bottle Service & Table Reservations \nTable/Bottle Packages \nA) The 3rd Wheel: $400\nincludes: 3 Backstage Passes;; includes 18% tip\nB) Special Package: $700\nincludes: 5 Backstage Passes; ; includes 18% tip\nC) Special Package: $850\nincludes: 5 Backstage Passes;\nD) Premium Package: $1000\nincludes: 5 Backstage Passes; 2 Premium Bottles of Choice (email wigglyevents@gmail.com to specify choice)\nTo Arrange other Special Packages – wigglyevents@gmail.com (sold separate of admission) \nATM on site | Full Bar Service | Indoor Washrooms | 19+ event \nhosted by: FU:SED Entertainment; Wiggly Events; 1lvl1 Entertainment; Desire events; Phantom; Exposed;  R&R;  Wiggle Room Toronto;  OG Entertainment; HYPE Toronto; People + Culture; InnerCity Dance; Stereo One; TAKiN\, and many more individual hosts. \n~ WiGGLE RESPONSIBLY ~\nWe have a strict code of conduct and reserve the right to refuse anyone anytime. All Wiggly Events are Safer Dance Spaces.\n~ Wiggle Wiggle ~
URL:https://wiggleroomtoronto.com/event/wiggly-warehouse-bad-boy-bill/
LOCATION:131 McCormack\, 131 McCormack St\, Toronto\, ON\, Canada
CATEGORIES:Wiggly Events
ATTACH;FMTTYPE=image/jpeg:https://wiggleroomtoronto.com/wp-content/uploads/2023/10/12-dec22-badboybill-event-1.jpg
END:VEVENT
BEGIN:VEVENT
DTSTART;TZID=America/Toronto:20231230T220000
DTEND;TZID=America/Toronto:20231231T040000
DTSTAMP:20260420T063510
CREATED:20231127T194350Z
LAST-MODIFIED:20240111T110534Z
UID:12683-1703973600-1703995200@wiggleroomtoronto.com
SUMMARY:The Tribute (pt.2): Barroness & Tyler Hill (B2B All Night Long) 4AM LAST CALL
DESCRIPTION:A tribute to 2023:  Part 2 of 2\nTyler Hill & Barroness (b2b all night long) \nBuy Tickets Facebook RA \nThe Tribute is a two-part event series capturing some of the best moments of 2023. As the year is coming to an end\, let’s join together and celebrate some of these moments. As resident DJs of Wiggle Room\, playing under the moniker +ONE\, Tyler Hill and Barroness have helped put Wiggle Room on a global map as a premium dance venue\, playing the dirty bouncy beats week in\, and week out. Additionally\, the two of them\, individually\, played incredible sets at this year’s Harvest Festival\, Ontario’s premier arts and music festival\, that some dubbed the Crystal Six structure humorously as Wiggle Six\, giving credit to these two powerful artists. We pay tribute to the past year and are excited about the magical musical journey that Tyler and Christina will be taking us on for this special night. We invite all of our loyal supporters who have been a part of this journey\, to join us as we pay tribute to 2023.\n+ Warm-up music by DJ Cameron ScottWe are also offering Complimentary Entry (before 11:30 pm with RSVP) to all of our loyal supporters.   To Claim & RSVP for FREE ENTRY (before 11:30pm):\nSelect “FREE ENTRY” ticket from the ticketing pageAdvance Tickets\nSuper Early Wiggler: $20\nAdvance: $25\n* FREE ENTRY (before 11:30 pm with RSVP) \nPerformers\n10-11 pm – DJ Cameron Scott\n11 pm – Close –  Tyler Hill & Barroness (b2b all night long)\n+ VJ SEKS \n———————————————————————————————-\n \nTable/Bottle Packages \nTo Arrange Special Packages – wigglyevents@gmail.com (sold separate of admission) \nATM on site | Full Bar Service | 19+ event \nHosted by: Wiggly Events; Wiggle Room Records; Wiggle Room Toronto; Fused Entertainment; Phantom Toronto~ WiGGLE RESPONSIBLY ~\n      \, \, Sean Star\, and Tanya\, are all available.\n~ Wiggle Wiggle ~
URL:https://wiggleroomtoronto.com/event/the-tribute-pt-2-barroness-tyler-hill-b2b-all-night-long/
LOCATION:Wiggle Room\, 772 Dundas St W\, Toronto
ATTACH;FMTTYPE=image/webp:https://wiggleroomtoronto.com/wp-content/uploads/2023/11/2023-dec30-tribute2-barroness-tyler-hill-b2b.webp
END:VEVENT
END:VCALENDAR