BEGIN:VCALENDAR
VERSION:2.0
PRODID:-//Wiggle Room Toronto - ECPv6.15.20//NONSGML v1.0//EN
CALSCALE:GREGORIAN
METHOD:PUBLISH
X-ORIGINAL-URL:https://wiggleroomtoronto.com
X-WR-CALDESC:Events for Wiggle Room Toronto
REFRESH-INTERVAL;VALUE=DURATION:PT1H
X-Robots-Tag:noindex
X-PUBLISHED-TTL:PT1H
BEGIN:VTIMEZONE
TZID:America/Toronto
BEGIN:DAYLIGHT
TZOFFSETFROM:-0500
TZOFFSETTO:-0400
TZNAME:EDT
DTSTART:20230312T070000
END:DAYLIGHT
BEGIN:STANDARD
TZOFFSETFROM:-0400
TZOFFSETTO:-0500
TZNAME:EST
DTSTART:20231105T060000
END:STANDARD
BEGIN:DAYLIGHT
TZOFFSETFROM:-0500
TZOFFSETTO:-0400
TZNAME:EDT
DTSTART:20240310T070000
END:DAYLIGHT
BEGIN:STANDARD
TZOFFSETFROM:-0400
TZOFFSETTO:-0500
TZNAME:EST
DTSTART:20241103T060000
END:STANDARD
BEGIN:DAYLIGHT
TZOFFSETFROM:-0500
TZOFFSETTO:-0400
TZNAME:EDT
DTSTART:20250309T070000
END:DAYLIGHT
BEGIN:STANDARD
TZOFFSETFROM:-0400
TZOFFSETTO:-0500
TZNAME:EST
DTSTART:20251102T060000
END:STANDARD
END:VTIMEZONE
BEGIN:VEVENT
DTSTART;TZID=America/Toronto:20240302T220000
DTEND;TZID=America/Toronto:20240303T040000
DTSTAMP:20260420T222320
CREATED:20240127T034853Z
LAST-MODIFIED:20240408T032013Z
UID:13675-1709416800-1709438400@wiggleroomtoronto.com
SUMMARY:Glitter & Glow: DEKOZE (Bday Beats) / Tommy Knuckles (NS) / Tyler Hill / Barroness
DESCRIPTION:GLITTER & GLOW – Neon Lights & Glitter All Over My Face \nDEKOZE is one of Toronto’s most recognized underground veterans and one of the biz’s most humble\, kindest humans. He is known for playing the dirty dirty: tribal\, tech\, house… Join us as we celebrate DEKOZE’s birthday beats with an extended set. \nTommy Knuckles\, our good pal from Halifax NS\, is also joining us for this one. He plays bouncy nu-disco and fun tech-house. It is always a great time dancing to Tommy’s beats\, and his music will be perfect for a night of Glitter & Glow. \nBuy Tickets Facebook RA \nAdvance Tickets\nEarly Wiggler: $20\nThe Wiggler: $25\nAdvance Wiggler: $30 \nPerformances\n10-12 Tyler Hill\n12-1:30 Tommy Knuckles\n1:30-4 DEKOZE (bday beat)\n4-close Barroness\nVJ SEKS \n \n \nhosted by: Phantom Toronto; Fused Entertainment; Wiggly Events; and Wiggle Room Toronto
URL:https://wiggleroomtoronto.com/event/glitter-glow-dekoze-bday-tommy-knuckles/
LOCATION:Wiggle Room\, 772 Dundas St W\, Toronto
ATTACH;FMTTYPE=image/webp:https://wiggleroomtoronto.com/wp-content/uploads/2024/01/03-Mar02-GlitterGlow-event.webp
END:VEVENT
END:VCALENDAR