BEGIN:VCALENDAR
VERSION:2.0
PRODID:-//Wiggle Room Toronto - ECPv6.15.20//NONSGML v1.0//EN
CALSCALE:GREGORIAN
METHOD:PUBLISH
X-WR-CALNAME:Wiggle Room Toronto
X-ORIGINAL-URL:https://wiggleroomtoronto.com
X-WR-CALDESC:Events for Wiggle Room Toronto
REFRESH-INTERVAL;VALUE=DURATION:PT1H
X-Robots-Tag:noindex
X-PUBLISHED-TTL:PT1H
BEGIN:VTIMEZONE
TZID:America/Toronto
BEGIN:DAYLIGHT
TZOFFSETFROM:-0500
TZOFFSETTO:-0400
TZNAME:EDT
DTSTART:20210314T070000
END:DAYLIGHT
BEGIN:STANDARD
TZOFFSETFROM:-0400
TZOFFSETTO:-0500
TZNAME:EST
DTSTART:20211107T060000
END:STANDARD
BEGIN:DAYLIGHT
TZOFFSETFROM:-0500
TZOFFSETTO:-0400
TZNAME:EDT
DTSTART:20220313T070000
END:DAYLIGHT
BEGIN:STANDARD
TZOFFSETFROM:-0400
TZOFFSETTO:-0500
TZNAME:EST
DTSTART:20221106T060000
END:STANDARD
BEGIN:DAYLIGHT
TZOFFSETFROM:-0500
TZOFFSETTO:-0400
TZNAME:EDT
DTSTART:20230312T070000
END:DAYLIGHT
BEGIN:STANDARD
TZOFFSETFROM:-0400
TZOFFSETTO:-0500
TZNAME:EST
DTSTART:20231105T060000
END:STANDARD
END:VTIMEZONE
BEGIN:VEVENT
DTSTART;TZID=America/Toronto:20220709T220000
DTEND;TZID=America/Toronto:20220710T030000
DTSTAMP:20260424T084843
CREATED:20220627T155835Z
LAST-MODIFIED:20231017T050706Z
UID:3910-1657404000-1657422000@wiggleroomtoronto.com
SUMMARY:RandomDoug\, Tyler Hill\, Pawelek\, and Matthew Mercury at R&R Summer Kick-Off x Wiggle Room
DESCRIPTION:Saturdays inside Wiggle Room are the Home of Bouncy Beats.The sun is shining and that warm weather is upon us. R&R\, Wiggle Room\, and FU:SED Entertainment present our summer kick-off alongside some homegrown heroes!✫ RANDOMDOUG\n✫ TYLER HILL\n✫ PAWELEK\n✫ MATTHEW MERCURY$25 before 11:30pm\n$30 after\nDoors open 10pmFacebook Eventhttps://soundcloud.com/randomdoughttps://soundcloud.com/tylerhillsoundhttps://soundcloud.com/robert-john-pawelekhttps://soundcloud.com/matthewmercury
URL:https://wiggleroomtoronto.com/event/2022-rr-summer-kick-off/
ATTACH;FMTTYPE=image/jpeg:https://wiggleroomtoronto.com/wp-content/uploads/2022/06/2022-rr-summer-kick-off.jpg
END:VEVENT
END:VCALENDAR