BEGIN:VCALENDAR
VERSION:2.0
PRODID:-//Wiggle Room Toronto - ECPv6.15.20//NONSGML v1.0//EN
CALSCALE:GREGORIAN
METHOD:PUBLISH
X-ORIGINAL-URL:https://wiggleroomtoronto.com
X-WR-CALDESC:Events for Wiggle Room Toronto
REFRESH-INTERVAL;VALUE=DURATION:PT1H
X-Robots-Tag:noindex
X-PUBLISHED-TTL:PT1H
BEGIN:VTIMEZONE
TZID:America/Toronto
BEGIN:DAYLIGHT
TZOFFSETFROM:-0500
TZOFFSETTO:-0400
TZNAME:EDT
DTSTART:20210314T070000
END:DAYLIGHT
BEGIN:STANDARD
TZOFFSETFROM:-0400
TZOFFSETTO:-0500
TZNAME:EST
DTSTART:20211107T060000
END:STANDARD
BEGIN:DAYLIGHT
TZOFFSETFROM:-0500
TZOFFSETTO:-0400
TZNAME:EDT
DTSTART:20220313T070000
END:DAYLIGHT
BEGIN:STANDARD
TZOFFSETFROM:-0400
TZOFFSETTO:-0500
TZNAME:EST
DTSTART:20221106T060000
END:STANDARD
BEGIN:DAYLIGHT
TZOFFSETFROM:-0500
TZOFFSETTO:-0400
TZNAME:EDT
DTSTART:20230312T070000
END:DAYLIGHT
BEGIN:STANDARD
TZOFFSETFROM:-0400
TZOFFSETTO:-0500
TZNAME:EST
DTSTART:20231105T060000
END:STANDARD
END:VTIMEZONE
BEGIN:VEVENT
DTSTART;TZID=America/Toronto:20220909T220000
DTEND;TZID=America/Toronto:20220910T040000
DTSTAMP:20260424T060029
CREATED:20220824T035005Z
LAST-MODIFIED:20231017T050705Z
UID:5134-1662760800-1662782400@wiggleroomtoronto.com
SUMMARY:MARK OLIVER / Tyler Hill / Jayforce / Boco / Purrpelle
DESCRIPTION:Join us on Friday\, Sep 9 for a night of wiggly beats with Toronto superhero MARK OLIVER.For many of us\, the Dusk Till Dawn series of events at the Guvernment was the gateway to our transcendence\, and at the helm of the main room was always MARK OLIVER\, playing his infamous open-to-close sets every Saturday night\, from 10 pm till the light came on\, never before 7 am. Often recognized as one of the founding fathers of the rave scene in Toronto\, Mark has been shaking this city for well over 3 decades. If you were raving in Toronto in the 90s or the 2000s\, chances are you’ve danced your butt off to Mark’s beats. Although he has a massive range and is not bound by any specific genre\, we suspect that for his set at Wiggle Room we will hear lots of dirty\, bouncy old-school goodies. We are static to have Toronto’s legendary MARK OLIVER make his debut at #wiggleroomtoronto. \nBuy TicketsEarly Bird: $15\nAdvance: $20\nAt door: $25 before 11:30pm; $30 after \nPerformers\n10-11:30 – Boco\n11:30-12:30 – Tyler Hill\n12:30-2 – MARK OLIVER\n2-3 – Jayforce\n3-4 – Purrpelle\n+ VJ Seksfor table reservations: wigglyevents@gmail.com (sold separately of admission)ATM on site | Full Bar Service | 21+ eventHosted by: FUS:ED; Wiggly Events; Jayforce; Phantom; and Wiggle Room Toronto~ WiGGLE RESPONSIBLY ~\n      \, \, Maria (bar)\, Tom\, and Tanya are all available.RSVP with friends on Facebook
URL:https://wiggleroomtoronto.com/event/mark-oliver-tyler-hill-jayforce-boco-purrpelle/
LOCATION:Wiggle Room\, 772 Dundas St W\, Toronto
ATTACH;FMTTYPE=image/jpeg:https://wiggleroomtoronto.com/wp-content/uploads/2022/08/mark-oliver-tyler-hill-jayforce-boco-purrpelle.jpg
END:VEVENT
END:VCALENDAR