BEGIN:VCALENDAR
VERSION:2.0
PRODID:-//Wiggle Room Toronto - ECPv6.15.20//NONSGML v1.0//EN
CALSCALE:GREGORIAN
METHOD:PUBLISH
X-WR-CALNAME:Wiggle Room Toronto
X-ORIGINAL-URL:https://wiggleroomtoronto.com
X-WR-CALDESC:Events for Wiggle Room Toronto
REFRESH-INTERVAL;VALUE=DURATION:PT1H
X-Robots-Tag:noindex
X-PUBLISHED-TTL:PT1H
BEGIN:VTIMEZONE
TZID:America/Toronto
BEGIN:DAYLIGHT
TZOFFSETFROM:-0500
TZOFFSETTO:-0400
TZNAME:EDT
DTSTART:20220313T070000
END:DAYLIGHT
BEGIN:STANDARD
TZOFFSETFROM:-0400
TZOFFSETTO:-0500
TZNAME:EST
DTSTART:20221106T060000
END:STANDARD
BEGIN:DAYLIGHT
TZOFFSETFROM:-0500
TZOFFSETTO:-0400
TZNAME:EDT
DTSTART:20230312T070000
END:DAYLIGHT
BEGIN:STANDARD
TZOFFSETFROM:-0400
TZOFFSETTO:-0500
TZNAME:EST
DTSTART:20231105T060000
END:STANDARD
BEGIN:DAYLIGHT
TZOFFSETFROM:-0500
TZOFFSETTO:-0400
TZNAME:EDT
DTSTART:20240310T070000
END:DAYLIGHT
BEGIN:STANDARD
TZOFFSETFROM:-0400
TZOFFSETTO:-0500
TZNAME:EST
DTSTART:20241103T060000
END:STANDARD
END:VTIMEZONE
BEGIN:VEVENT
DTSTART;TZID=America/Toronto:20230812T220000
DTEND;TZID=America/Toronto:20230813T040000
DTSTAMP:20260421T113442
CREATED:20230728T162632Z
LAST-MODIFIED:20231017T050711Z
UID:10977-1691877600-1691899200@wiggleroomtoronto.com
SUMMARY:PHANTOM FEST PRE PARTY
DESCRIPTION:Saturdays inside #WiggleRoomToronto are the #HomeofBouncyBeats\nAug 12 / PHANTOM FEST PRE PARTYAs we all get excited for Phantom Fest\, it is fitting to have a special Pre Party to give you all a little taste of what to expect at the big weekend at the end of summer. This event will feature some of the performing artists from Phantom Fest\, as well as a sneak peek at some of the crazy art and deco\, planned.  And if you can’t join us at this year’s Phantom Fest\, this will be a great opportunity to share in some of the experiences. \nBuy Tickets RSVP on Facebook\nEarly Bird: $20\nAdvance:  $25\n* Phantom Fest Ticket Holder will receive a special discount code \nTable/Bottle Packages \nTo Arrange Special Packages – wigglyevents@gmail.com (sold separate of admission)ATM on site | Full Bar Service | 21+ eventHosted by: Phantom Toronto; Fused Entertainment; Wiggly Events; and Wiggle Room Toronto~ WiGGLE RESPONSIBLY ~
URL:https://wiggleroomtoronto.com/event/phantom-fest-pre-party/
LOCATION:Wiggle Room\, 772 Dundas St W\, Toronto
ATTACH;FMTTYPE=image/jpeg:https://wiggleroomtoronto.com/wp-content/uploads/2023/07/362629313-993271548476413-5233660290100904439-n.jpg
ORGANIZER;CN="Phantom":MAILTO:aphantomevent@gmail.com
END:VEVENT
END:VCALENDAR